BEGIN:VCALENDAR
VERSION:2.0
PRODID:Events Booking
BEGIN:VEVENT
UID:69eb78d5d50bf
SUMMARY:Wir haben ein Kind vor der Geburt verloren\, wir hatten eine Fehlge
 burt!
DESCRIPTION:Dies ist keine Veranstaltung\, sondern die Möglichkeit\, sich 
 als Betroffene Beratung und Hilfe zu holen!
 Wie gehen wir mit dieser Sit
 uation um? Welche Hilfestellungen gibt es?
 Bitte bei Bedarf um Kontaktau
 fnahme durch E-mail oder Telefon\, siehe Impressum\, es kann auf Wunsch au
 ch ein entsprechender Text zugesandt werden!
 Niemand sollte in dieser Si
 tuation alleine dastehen! Bitte einfach melden!
LOCATION:3350 Haag\, Hauptplatz 1
DTSTART:20231230T230000Z
DTSTAMP:20260424T160613Z
ORGANIZER;CN=Haus der Familien:MAILTO:info@hausderfamilien.net
GEO:48.11221;14.56599
X-APPLE-STRUCTURED-LOCATION;VALUE=URI;X-ADDRESS=3350 Haag\, Hauptplatz 1;X-
 APPLE-RADIUS=72;X-TITLE=Haus der Familien:48.11221;14.56599
END:VEVENT
END:VCALENDAR