BEGIN:VCALENDAR
VERSION:2.0
PRODID:Events Booking
BEGIN:VEVENT
UID:69eb7a58e76b0
SUMMARY:Info zur Initiative Haus der Familien
DESCRIPTION:Informatiosblatt über unser Haus der Familien
 
LOCATION:3350 Haag\, Hauptplatz 1
DTSTART:20231230T230000Z
DTSTAMP:20260424T161240Z
ORGANIZER;CN=Haus der Familien:MAILTO:info@hausderfamilien.net
GEO:48.11221;14.56599
X-APPLE-STRUCTURED-LOCATION;VALUE=URI;X-ADDRESS=3350 Haag\, Hauptplatz 1;X-
 APPLE-RADIUS=72;X-TITLE=Haus der Familien:48.11221;14.56599
END:VEVENT
END:VCALENDAR